BEGIN:VCALENDAR
PRODID:-//AT Content Types//AT Event//EN
VERSION:2.0
METHOD:PUBLISH
BEGIN:VEVENT
DTSTAMP:20260421T121315Z
CREATED:20240118T103909Z
UID:ATEvent-52e4c1c3404d4bb19a76ea7094aff790
LAST-MODIFIED:20240126T124623Z
SUMMARY:Public consultation event - Union Street
DTSTART:20240213T090000Z
DTEND:20240213T120000Z
DESCRIPTION:Union Street (near the bus station)
CLASS:PUBLIC
END:VEVENT
END:VCALENDAR
