BEGIN:VCALENDAR
PRODID:-//AT Content Types//AT Event//EN
VERSION:2.0
METHOD:PUBLISH
BEGIN:VEVENT
DTSTAMP:20260421T121954Z
CREATED:20240118T140501Z
UID:ATEvent-717e7ea799624a4e85f66cee4e2e6c0a
LAST-MODIFIED:20240126T124623Z
SUMMARY:Public consultation event - Morrison's
DTSTART:20240217T090000Z
DTEND:20240217T120000Z
DESCRIPTION:Morrison's Supermarket\n239 Holyhead Road\nWednesbury WS10
  7BD
CLASS:PUBLIC
END:VEVENT
END:VCALENDAR
