BEGIN:VCALENDAR
PRODID:-//AT Content Types//AT Event//EN
VERSION:2.0
METHOD:PUBLISH
BEGIN:VEVENT
DTSTAMP:20260421T134216Z
CREATED:20240503T144021Z
UID:ATEvent-e9b185351d974127a6e38ea796464699
LAST-MODIFIED:20240530T092100Z
SUMMARY:Public consultation event - Wednesbury Library
DTSTART:20240514T170000Z
DTEND:20240514T190000Z
DESCRIPTION:Wednesbury Library\nWalsall Street\nWednesbury\nWS10 9EH
CLASS:PUBLIC
END:VEVENT
END:VCALENDAR
