BEGIN:VCALENDAR
PRODID:-//AT Content Types//AT Event//EN
VERSION:2.0
METHOD:PUBLISH
BEGIN:VEVENT
DTSTAMP:20260421T133828Z
CREATED:20240503T144021Z
UID:ATEvent-cbb8b2c0ccf143858edf6680448f9cd1
LAST-MODIFIED:20240530T092100Z
SUMMARY:CANCELLED - Public consultation event - Morrison's
DTSTART:20240601T090000Z
DTEND:20240601T110000Z
DESCRIPTION:Morrison's Supermarket\n239 Holyhead Road\nWednesbury WS10
  7BD
CLASS:PUBLIC
END:VEVENT
END:VCALENDAR
